BEGIN:VCALENDAR
VERSION:2.0
PRODID:-//CONECT Tunisie - ECPv5.14.0.3//NONSGML v1.0//EN
CALSCALE:GREGORIAN
METHOD:PUBLISH
X-WR-CALNAME:CONECT Tunisie
X-ORIGINAL-URL:https://www.conect.org.tn
X-WR-CALDESC:évènements pour CONECT Tunisie
REFRESH-INTERVAL;VALUE=DURATION:PT1H
X-Robots-Tag:noindex
X-PUBLISHED-TTL:PT1H
BEGIN:VTIMEZONE
TZID:Europe/Paris
BEGIN:DAYLIGHT
TZOFFSETFROM:+0100
TZOFFSETTO:+0200
TZNAME:CEST
DTSTART:20240331T010000
END:DAYLIGHT
BEGIN:STANDARD
TZOFFSETFROM:+0200
TZOFFSETTO:+0100
TZNAME:CET
DTSTART:20241027T010000
END:STANDARD
END:VTIMEZONE
BEGIN:VEVENT
DTSTART;TZID=Europe/Paris:20241118T080000
DTEND;TZID=Europe/Paris:20241120T170000
DTSTAMP:20260423T230517
CREATED:20241011T163059Z
LAST-MODIFIED:20241014T150430Z
UID:18088-1731916800-1732122000@www.conect.org.tn
SUMMARY:Inscrivez vous à la Foire des Produits et Services HALAL MALAISIENS à Dubai 17-20 Novembre 2024
DESCRIPTION:Date limite de pré-inscription : Mardi 15 Octobre 2024* \nLa CONECT International a le plaisir de vous informer que l’Agence Malaisienne de Promotion du Commerce Extérieur (MATRADE) organise un évènement économique des produits et services halal Malaisiens à Dubaï (MIHAS@Dubai)\, conjointement avec la Foire des Produits Biologiques et Naturels qui aura lieu du 18 au 20 Novembre 2024 au World Trade Centre\, Dubaï. \nCet évènement comprendra des rencontres d’affaires préétablies avec des opérateurs/exposants Malaisiens\, accès au salon d’affaires de Matrade et visite guidée au Salon des Produits Biologiques et Naturels du Moyen Orient. \nNB: La candidature au programme de prise en charge totale (un billet d’avion en classe économique et un hébergement de 4 jours /3 nuitées pour une seule personne par entreprise) est réservée aux adhérents Gold/Privilège 2024\, sous condition d’acception de leurs dossiers par les organisateurs. \nEn cas d’intérêt\, veuillez nous le notifier par retour d’e-mail sur :\n📧 de.ci@conect.org.tn (avec copie de votre reçu d’adhésion Gold/Privilège 2024).
URL:https://www.conect.org.tn/event/inscrivez-vous-a-la-foire-des-produits-et-services-halal-malaisiens-a-dubai-17-20-novembre-2024/
CATEGORIES:Autres événements,Evénements de la CONECT
ATTACH;FMTTYPE=image/jpeg:https://www.conect.org.tn/wp-content/uploads/2024/10/81e976bd-6063-4628-903b-97dc7980ffa6.jpeg
END:VEVENT
BEGIN:VEVENT
DTSTART;TZID=Europe/Paris:20241125T080000
DTEND;TZID=Europe/Paris:20241125T170000
DTSTAMP:20260423T230517
CREATED:20241011T163217Z
LAST-MODIFIED:20241014T150625Z
UID:18093-1732521600-1732554000@www.conect.org.tn
SUMMARY:SAVE THE DATE: CONECT PARTENAIRE DU PREMIER FORUM TUNISO-NORDIQUE - le 25 novembre 2024 à l'hôtel Mövenpick de Tunis
DESCRIPTION:SAVE THE DATE: CONECT PARTENAIRE DU PREMIER FORUM TUNISO-NORDIQUE – le 25 novembre 2024 à l’hôtel Mövenpick de Tunis \n📍 Inscrivez-vous dès maintenant : https://ntsb-forum.com/inscription \nRDV le 25 novembre 2024 à l’hôtel Mövenpick de Tunis \nPlongez dans le potentiel exceptionnel d’investissement de la Tunisie. Le pays vous ouvre grand ses portes et vous invite à devenir un acteur clé de son agenda ambitieux pour la transition énergétique et le traitement de déchets.\nRejoignez l’équipe nordique en développement durable et collaborez avec les entreprises tunisiennes. \nAu programme :\n• Des visiteurs institutionnels de haut niveau\n• Des espaces de rencontre B2B exclusifs pour les entreprises\n• Des panels de discussion inspirants \nNe manquez pas cette opportunité unique de participer au premier « Nordic-Tunisian Sustainable Business Forum ». Rencontrez des leaders de l’industrie des pays Nordiques\, des banques d’investissement et de développement (SEB\, BERD)\, des décideurs\, des agences d’investissement (FIPA\, Business Sweden) et des acteurs clés du monde des affaires en Tunisie. \nPour plus de détails visitez le site web : https://ntsb-forum.com/#presentation
URL:https://www.conect.org.tn/event/save-the-date-conect-partenaire-du-premier-forum-tuniso-nordique-le-25-novembre-2024-a-lhotel-movenpick-de-tunis/
LOCATION:hôtel Mövenpick de Tunis\, hôtel Mövenpick de Tunis\, Tunisie\, Tunisie
CATEGORIES:Autres événements,Evénements de la CONECT
ATTACH;FMTTYPE=image/jpeg:https://www.conect.org.tn/wp-content/uploads/2024/10/w.jpg
END:VEVENT
END:VCALENDAR